BEGIN:VCALENDAR
VERSION:2.0
PRODID:icalendar-ruby
CALSCALE:GREGORIAN
METHOD:PUBLISH
BEGIN:VEVENT
DTSTAMP:20260422T154603Z
UID:8-688722@centralbaptistbr.org
DTSTART:20260927T230000Z
DTEND:20260928T000000Z
CLASS:PUBLIC
CREATED:20260422T100024
DESCRIPTION:
LAST-MODIFIED:20260422T100024
LOCATION:
SUMMARY:Evening Service
URL;VALUE=URI:https://centralbaptistbr.org/events/evening-service/2026-09-2
 7
END:VEVENT
END:VCALENDAR
