BEGIN:VCALENDAR
VERSION:2.0
PRODID:icalendar-ruby
CALSCALE:GREGORIAN
METHOD:PUBLISH
BEGIN:VEVENT
DTSTAMP:20260422T171950Z
UID:8-688723@centralbaptistbr.org
DTSTART:20261004T230000Z
DTEND:20261005T000000Z
CLASS:PUBLIC
CREATED:20260422T100024
DESCRIPTION:
LAST-MODIFIED:20260422T100024
LOCATION:
SUMMARY:Evening Service
URL;VALUE=URI:https://centralbaptistbr.org/events/evening-service/2026-10-0
 4
END:VEVENT
END:VCALENDAR
