BEGIN:VCALENDAR
VERSION:2.0
PRODID:icalendar-ruby
CALSCALE:GREGORIAN
METHOD:PUBLISH
BEGIN:VEVENT
DTSTAMP:20260422T191820Z
UID:8-689299@centralbaptistbr.org
DTSTART:20261011T230000Z
DTEND:20261012T000000Z
CLASS:PUBLIC
CREATED:20260422T125535
DESCRIPTION:
LAST-MODIFIED:20260422T125535
LOCATION:
SUMMARY:Evening Service
URL;VALUE=URI:https://centralbaptistbr.org/events/evening-service/2026-10-1
 1
END:VEVENT
END:VCALENDAR
