BEGIN:VCALENDAR
VERSION:2.0
PRODID:icalendar-ruby
CALSCALE:GREGORIAN
METHOD:PUBLISH
BEGIN:VEVENT
DTSTAMP:20260422T224436Z
UID:8-689876@centralbaptistbr.org
DTSTART:20261025T230000Z
DTEND:20261026T000000Z
CLASS:PUBLIC
CREATED:20260422T155041
DESCRIPTION:
LAST-MODIFIED:20260422T155041
LOCATION:
SUMMARY:Evening Service
URL;VALUE=URI:https://centralbaptistbr.org/events/evening-service/2026-10-2
 5
END:VEVENT
END:VCALENDAR
