BEGIN:VCALENDAR
VERSION:2.0
PRODID:icalendar-ruby
CALSCALE:GREGORIAN
METHOD:PUBLISH
BEGIN:VEVENT
DTSTAMP:20260423T002514Z
UID:8-690452@centralbaptistbr.org
DTSTART:20261102T000000Z
DTEND:20261102T010000Z
CLASS:PUBLIC
CREATED:20260422T184245
DESCRIPTION:
LAST-MODIFIED:20260422T184245
LOCATION:
SUMMARY:Evening Service
URL;VALUE=URI:https://centralbaptistbr.org/events/evening-service/2026-11-0
 1
END:VEVENT
END:VCALENDAR
