BEGIN:VCALENDAR
VERSION:2.0
PRODID:icalendar-ruby
CALSCALE:GREGORIAN
METHOD:PUBLISH
BEGIN:VEVENT
DTSTAMP:20260422T023805Z
UID:9-687716@centralbaptistbr.org
DTSTART:20261001T000000Z
DTEND:20261001T010000Z
CLASS:PUBLIC
CREATED:20260421T200037
DESCRIPTION:
LAST-MODIFIED:20260421T200037
LOCATION:
SUMMARY:Midweek Bible Study
URL;VALUE=URI:https://centralbaptistbr.org/events/midweek-bible-study/2026-
 09-30
END:VEVENT
END:VCALENDAR
