BEGIN:VCALENDAR
VERSION:2.0
PRODID:icalendar-ruby
CALSCALE:GREGORIAN
METHOD:PUBLISH
BEGIN:VEVENT
DTSTAMP:20260422T042236Z
UID:9-687717@centralbaptistbr.org
DTSTART:20261008T000000Z
DTEND:20261008T010000Z
CLASS:PUBLIC
CREATED:20260421T200037
DESCRIPTION:
LAST-MODIFIED:20260421T200037
LOCATION:
SUMMARY:Midweek Bible Study
URL;VALUE=URI:https://centralbaptistbr.org/events/midweek-bible-study/2026-
 10-07
END:VEVENT
END:VCALENDAR
