BEGIN:VCALENDAR
VERSION:2.0
PRODID:icalendar-ruby
CALSCALE:GREGORIAN
METHOD:PUBLISH
BEGIN:VEVENT
DTSTAMP:20260424T084757Z
UID:9-694625@centralbaptistbr.org
DTSTART:20261015T000000Z
DTEND:20261015T010000Z
CLASS:PUBLIC
CREATED:20260423T213833
DESCRIPTION:
LAST-MODIFIED:20260423T213833
LOCATION:
SUMMARY:Midweek Bible Study
URL;VALUE=URI:https://centralbaptistbr.org/events/midweek-bible-study/2026-
 10-14
END:VEVENT
END:VCALENDAR
