BEGIN:VCALENDAR
VERSION:2.0
PRODID:icalendar-ruby
CALSCALE:GREGORIAN
METHOD:PUBLISH
BEGIN:VEVENT
DTSTAMP:20260424T102850Z
UID:9-694626@centralbaptistbr.org
DTSTART:20261022T000000Z
DTEND:20261022T010000Z
CLASS:PUBLIC
CREATED:20260423T213833
DESCRIPTION:
LAST-MODIFIED:20260423T213833
LOCATION:
SUMMARY:Midweek Bible Study
URL;VALUE=URI:https://centralbaptistbr.org/events/midweek-bible-study/2026-
 10-21
END:VEVENT
END:VCALENDAR
