BEGIN:VCALENDAR
VERSION:2.0
PRODID:icalendar-ruby
CALSCALE:GREGORIAN
METHOD:PUBLISH
BEGIN:VEVENT
DTSTAMP:20260424T115915Z
UID:9-694627@centralbaptistbr.org
DTSTART:20261029T000000Z
DTEND:20261029T010000Z
CLASS:PUBLIC
CREATED:20260423T213833
DESCRIPTION:
LAST-MODIFIED:20260423T213833
LOCATION:
SUMMARY:Midweek Bible Study
URL;VALUE=URI:https://centralbaptistbr.org/events/midweek-bible-study/2026-
 10-28
END:VEVENT
END:VCALENDAR
