BEGIN:VCALENDAR
VERSION:2.0
PRODID:icalendar-ruby
CALSCALE:GREGORIAN
METHOD:PUBLISH
BEGIN:VEVENT
DTSTAMP:20260424T134446Z
UID:9-695204@centralbaptistbr.org
DTSTART:20261105T010000Z
DTEND:20261105T020000Z
CLASS:PUBLIC
CREATED:20260424T070701
DESCRIPTION:
LAST-MODIFIED:20260424T070701
LOCATION:
SUMMARY:Midweek Bible Study
URL;VALUE=URI:https://centralbaptistbr.org/events/midweek-bible-study/2026-
 11-04
END:VEVENT
END:VCALENDAR
