BEGIN:VCALENDAR
VERSION:2.0
PRODID:icalendar-ruby
CALSCALE:GREGORIAN
METHOD:PUBLISH
BEGIN:VEVENT
DTSTAMP:20260420T103304Z
UID:6-680386@centralbaptistbr.org
DTSTART:20261025T150000Z
DTEND:20261025T154500Z
CLASS:PUBLIC
CREATED:20260420T020242
DESCRIPTION:
LAST-MODIFIED:20260420T020242
LOCATION:
SUMMARY:Sunday School
URL;VALUE=URI:https://centralbaptistbr.org/events/sunday-school/2026-10-25
END:VEVENT
END:VCALENDAR
