BEGIN:VCALENDAR
VERSION:2.0
PRODID:icalendar-ruby
CALSCALE:GREGORIAN
METHOD:PUBLISH
BEGIN:VEVENT
DTSTAMP:20260420T122719Z
UID:6-680964@centralbaptistbr.org
DTSTART:20261101T160000Z
DTEND:20261101T164500Z
CLASS:PUBLIC
CREATED:20260420T065107
DESCRIPTION:
LAST-MODIFIED:20260420T065107
LOCATION:
SUMMARY:Sunday School
URL;VALUE=URI:https://centralbaptistbr.org/events/sunday-school/2026-11-01
END:VEVENT
END:VCALENDAR
